BEGIN:VCALENDAR
VERSION:2.0
PRODID:-//SCNCA | The Southern California / Nevada Cycling Association - ECPv6.15.18//NONSGML v1.0//EN
CALSCALE:GREGORIAN
METHOD:PUBLISH
X-WR-CALNAME:SCNCA | The Southern California / Nevada Cycling Association
X-ORIGINAL-URL:https://scnca.com
X-WR-CALDESC:Events for SCNCA | The Southern California / Nevada Cycling Association
REFRESH-INTERVAL;VALUE=DURATION:PT1H
X-Robots-Tag:noindex
X-PUBLISHED-TTL:PT1H
BEGIN:VTIMEZONE
TZID:America/Los_Angeles
BEGIN:DAYLIGHT
TZOFFSETFROM:-0800
TZOFFSETTO:-0700
TZNAME:PDT
DTSTART:20210314T100000
END:DAYLIGHT
BEGIN:STANDARD
TZOFFSETFROM:-0700
TZOFFSETTO:-0800
TZNAME:PST
DTSTART:20211107T090000
END:STANDARD
BEGIN:DAYLIGHT
TZOFFSETFROM:-0800
TZOFFSETTO:-0700
TZNAME:PDT
DTSTART:20220313T100000
END:DAYLIGHT
BEGIN:STANDARD
TZOFFSETFROM:-0700
TZOFFSETTO:-0800
TZNAME:PST
DTSTART:20221106T090000
END:STANDARD
BEGIN:DAYLIGHT
TZOFFSETFROM:-0800
TZOFFSETTO:-0700
TZNAME:PDT
DTSTART:20230312T100000
END:DAYLIGHT
BEGIN:STANDARD
TZOFFSETFROM:-0700
TZOFFSETTO:-0800
TZNAME:PST
DTSTART:20231105T090000
END:STANDARD
BEGIN:DAYLIGHT
TZOFFSETFROM:-0800
TZOFFSETTO:-0700
TZNAME:PDT
DTSTART:20240310T100000
END:DAYLIGHT
BEGIN:STANDARD
TZOFFSETFROM:-0700
TZOFFSETTO:-0800
TZNAME:PST
DTSTART:20241103T090000
END:STANDARD
BEGIN:DAYLIGHT
TZOFFSETFROM:-0800
TZOFFSETTO:-0700
TZNAME:PDT
DTSTART:20250309T100000
END:DAYLIGHT
BEGIN:STANDARD
TZOFFSETFROM:-0700
TZOFFSETTO:-0800
TZNAME:PST
DTSTART:20251102T090000
END:STANDARD
BEGIN:DAYLIGHT
TZOFFSETFROM:-0800
TZOFFSETTO:-0700
TZNAME:PDT
DTSTART:20260308T100000
END:DAYLIGHT
BEGIN:STANDARD
TZOFFSETFROM:-0700
TZOFFSETTO:-0800
TZNAME:PST
DTSTART:20261101T090000
END:STANDARD
BEGIN:DAYLIGHT
TZOFFSETFROM:-0800
TZOFFSETTO:-0700
TZNAME:PDT
DTSTART:20270314T100000
END:DAYLIGHT
BEGIN:STANDARD
TZOFFSETFROM:-0700
TZOFFSETTO:-0800
TZNAME:PST
DTSTART:20271107T090000
END:STANDARD
END:VTIMEZONE
BEGIN:VEVENT
DTSTART;TZID=America/Los_Angeles:20260414T000000
DTEND;TZID=America/Los_Angeles:20260414T235959
DTSTAMP:20260421T183159
CREATED:20260331T084449Z
LAST-MODIFIED:20260331T084454Z
UID:9196-1776124800-1776211199@scnca.com
SUMMARY:ELDO Race Series TT #1
DESCRIPTION:Race FlyerRegistration
URL:https://scnca.com/event/eldo-race-series-tt-1-2/
LOCATION:El Dorado Park\, E Spring Street & El Dorado Park Street\, Long Beach\, California\, 90808
CATEGORIES:Junior,Time Trial
ORGANIZER;CN="Methods To Winning":MAILTO:info@methodstowinning.com
END:VEVENT
BEGIN:VEVENT
DTSTART;TZID=America/Los_Angeles:20260412T000000
DTEND;TZID=America/Los_Angeles:20260412T235959
DTSTAMP:20260421T183159
CREATED:20260225T065711Z
LAST-MODIFIED:20260225T065718Z
UID:9142-1775952000-1776038399@scnca.com
SUMMARY:Redlands Downtown Criteriums
DESCRIPTION:Race FlyerRegistration
URL:https://scnca.com/event/redlands-downtown-criteriums-3/
LOCATION:Redlands\, CA
CATEGORIES:Criterium,Time Trial
END:VEVENT
BEGIN:VEVENT
DTSTART;TZID=America/Los_Angeles:20250727T000000
DTEND;TZID=America/Los_Angeles:20250727T235959
DTSTAMP:20260421T183159
CREATED:20250707T070854Z
LAST-MODIFIED:20250707T070942Z
UID:8916-1753574400-1753660799@scnca.com
SUMMARY:SCNCA CHAMPIONSHIPS:Team Time Trials
DESCRIPTION:Race FlyerRegistration
URL:https://scnca.com/event/scnca-state-championshipsteam-time-trials/
LOCATION:Lake Los Angeles\, 180th Street East and Avenue O\, Lake Los Angeles\, CA\, 93535\, United States
CATEGORIES:State Championship,Time Trial
END:VEVENT
BEGIN:VEVENT
DTSTART;TZID=America/Los_Angeles:20250720T000000
DTEND;TZID=America/Los_Angeles:20250720T235959
DTSTAMP:20260421T183159
CREATED:20250707T070604Z
LAST-MODIFIED:20250707T071218Z
UID:8914-1752969600-1753055999@scnca.com
SUMMARY:SCNCA CHAMPIONSHIPS:Individual Time Trials
DESCRIPTION:Race Flyer \nRegistration
URL:https://scnca.com/event/scnca-state-championshipsindividual-time-trials/
LOCATION:Lake Los Angeles\, 180th Street East and Avenue O\, Lake Los Angeles\, CA\, 93535\, United States
CATEGORIES:State Championship,Time Trial
END:VEVENT
BEGIN:VEVENT
DTSTART;TZID=America/Los_Angeles:20250531T000000
DTEND;TZID=America/Los_Angeles:20250531T235959
DTSTAMP:20260421T183159
CREATED:20250505T075039Z
LAST-MODIFIED:20250505T075041Z
UID:8873-1748649600-1748735999@scnca.com
SUMMARY:GMR Challenge Time Trial
DESCRIPTION:Race FlyerRegistration
URL:https://scnca.com/event/gmr-challenge-time-trial-4/
LOCATION:GMR TT\, 1099 Glendora Mountain Rd\, Glendora\, 91741
CATEGORIES:Time Trial
END:VEVENT
BEGIN:VEVENT
DTSTART;TZID=America/Los_Angeles:20250527T000000
DTEND;TZID=America/Los_Angeles:20250527T235959
DTSTAMP:20260421T183159
CREATED:20250509T082607Z
LAST-MODIFIED:20250509T082612Z
UID:8891-1748304000-1748390399@scnca.com
SUMMARY:ELDO Race Series TT & TTT
DESCRIPTION:Race FlyerRegistration
URL:https://scnca.com/event/eldo-race-series-tt-ttt/
LOCATION:El Dorado Park\, E Spring Street & El Dorado Park Street\, Long Beach\, California\, 90808
CATEGORIES:Junior,Time Trial
ORGANIZER;CN="Methods To Winning":MAILTO:info@methodstowinning.com
END:VEVENT
BEGIN:VEVENT
DTSTART;TZID=America/Los_Angeles:20250413T000000
DTEND;TZID=America/Los_Angeles:20250413T235959
DTSTAMP:20260421T183159
CREATED:20250325T091603Z
LAST-MODIFIED:20250325T091605Z
UID:8835-1744502400-1744588799@scnca.com
SUMMARY:Redlands Downtown Criteriums
DESCRIPTION:Race FlyerRegistration
URL:https://scnca.com/event/redlands-downtown-criteriums-2/
LOCATION:Redlands\, CA
CATEGORIES:Criterium,Time Trial
END:VEVENT
BEGIN:VEVENT
DTSTART;TZID=America/Los_Angeles:20240713T000000
DTEND;TZID=America/Los_Angeles:20240713T235959
DTSTAMP:20260421T183159
CREATED:20240629T061428Z
LAST-MODIFIED:20240629T061430Z
UID:8525-1720828800-1720915199@scnca.com
SUMMARY:The Dam Dash\, "Chase" the Record
DESCRIPTION:Race FlyerRegistration
URL:https://scnca.com/event/the-dam-dash-chase-the-record/
LOCATION:Dam Dash\, 751 Encanto Pkwy\, Duarte\, California\, 91010
CATEGORIES:Time Trial
ORGANIZER;CN="Cycltherapy":MAILTO:spotteraaricka@gmail.com
END:VEVENT
BEGIN:VEVENT
DTSTART;TZID=America/Los_Angeles:20240622T000000
DTEND;TZID=America/Los_Angeles:20240622T235959
DTSTAMP:20260421T183159
CREATED:20240503T103056Z
LAST-MODIFIED:20240503T103058Z
UID:8445-1719014400-1719100799@scnca.com
SUMMARY:GMR Challenge Time Trial
DESCRIPTION:Race FlyerRegistration
URL:https://scnca.com/event/gmr-challenge-time-trial-3/
LOCATION:GMR TT\, 1099 Glendora Mountain Rd\, Glendora\, 91741
CATEGORIES:Time Trial
END:VEVENT
BEGIN:VEVENT
DTSTART;TZID=America/Los_Angeles:20240525T000000
DTEND;TZID=America/Los_Angeles:20240525T235959
DTSTAMP:20260421T183159
CREATED:20240310T192446Z
LAST-MODIFIED:20240501T045411Z
UID:8389-1716595200-1716681599@scnca.com
SUMMARY:SCNCA STATE CHAMPIONSHIPS:Team Time Trials
DESCRIPTION:Race FlyerRegistration
URL:https://scnca.com/event/scnca-state-championshipsteam-time-trials-3/
LOCATION:Lake Los Angeles\, 180th Street East and Avenue O\, Lake Los Angeles\, CA\, 93535\, United States
CATEGORIES:State Championship,Time Trial
END:VEVENT
BEGIN:VEVENT
DTSTART;TZID=America/Los_Angeles:20240420T000000
DTEND;TZID=America/Los_Angeles:20240420T235959
DTSTAMP:20260421T183159
CREATED:20240310T192228Z
LAST-MODIFIED:20240328T162614Z
UID:8385-1713571200-1713657599@scnca.com
SUMMARY:SCNCA STATE CHAMPIONSHIPS:Individual Time Trials
DESCRIPTION:Race Flyer \nRegistration
URL:https://scnca.com/event/scnca-state-championshipsindividual-time-trials-5/
LOCATION:Lake Los Angeles\, 180th Street East and Avenue O\, Lake Los Angeles\, CA\, 93535\, United States
CATEGORIES:State Championship,Time Trial
END:VEVENT
BEGIN:VEVENT
DTSTART;TZID=America/Los_Angeles:20231028T000000
DTEND;TZID=America/Los_Angeles:20231028T235959
DTSTAMP:20260421T183159
CREATED:20230821T184504Z
LAST-MODIFIED:20230830T104639Z
UID:7888-1698451200-1698537599@scnca.com
SUMMARY:Hotter n Hell TT at Mt Baldy
DESCRIPTION:Race Flyer \nRegistration
URL:https://scnca.com/event/hotter-n-hell-tt-at-mt-baldy-3/
LOCATION:California
CATEGORIES:Time Trial
END:VEVENT
BEGIN:VEVENT
DTSTART;TZID=America/Los_Angeles:20230923T000000
DTEND;TZID=America/Los_Angeles:20230923T235959
DTSTAMP:20260421T183159
CREATED:20230821T184403Z
LAST-MODIFIED:20230821T184405Z
UID:7886-1695427200-1695513599@scnca.com
SUMMARY:Hotter n Hell TT at Mt Baldy
DESCRIPTION:Race Flyer \nRegistration
URL:https://scnca.com/event/hotter-n-hell-tt-at-mt-baldy-2/
LOCATION:California
CATEGORIES:Time Trial
END:VEVENT
BEGIN:VEVENT
DTSTART;TZID=America/Los_Angeles:20230903T000000
DTEND;TZID=America/Los_Angeles:20230903T235959
DTSTAMP:20260421T183159
CREATED:20230714T223846Z
LAST-MODIFIED:20230714T223850Z
UID:7873-1693699200-1693785599@scnca.com
SUMMARY:Skunkworks Track Racing: SCNCA Championship Time Trials
DESCRIPTION:Race FlyerRegistration
URL:https://scnca.com/event/skunkworks-track-racing-scnca-championship-time-trials/
LOCATION:Skunkworks Track Racing\, 18400 S Avalon Blvd\, Carson\, California\, 90746
CATEGORIES:Elite,Junior,Masters,Time Trial,Track
END:VEVENT
BEGIN:VEVENT
DTSTART;TZID=America/Los_Angeles:20230812T000000
DTEND;TZID=America/Los_Angeles:20230812T235959
DTSTAMP:20260421T183159
CREATED:20230715T214131Z
LAST-MODIFIED:20230715T214430Z
UID:7877-1691798400-1691884799@scnca.com
SUMMARY:Hotter n Hell TT at Mt Baldy
DESCRIPTION:Race Flyer \nRegistration
URL:https://scnca.com/event/hotter-n-hell-tt-at-mt-baldy/
LOCATION:California
CATEGORIES:Time Trial
END:VEVENT
BEGIN:VEVENT
DTSTART;TZID=America/Los_Angeles:20230801T000000
DTEND;TZID=America/Los_Angeles:20230801T235959
DTSTAMP:20260421T183159
CREATED:20230311T220858Z
LAST-MODIFIED:20230311T220900Z
UID:7692-1690848000-1690934399@scnca.com
SUMMARY:ELDO Race Series TT #6
DESCRIPTION:Race FlyerRegistration
URL:https://scnca.com/event/eldo-race-series-tt-6/
LOCATION:El Dorado Park\, E Spring Street & El Dorado Park Street\, Long Beach\, California\, 90808
CATEGORIES:Junior,Time Trial
ORGANIZER;CN="Methods To Winning":MAILTO:info@methodstowinning.com
END:VEVENT
BEGIN:VEVENT
DTSTART;TZID=America/Los_Angeles:20230711T000000
DTEND;TZID=America/Los_Angeles:20230711T235959
DTSTAMP:20260421T183159
CREATED:20230311T220802Z
LAST-MODIFIED:20230311T220804Z
UID:7690-1689033600-1689119999@scnca.com
SUMMARY:ELDO Race Series TT #5
DESCRIPTION:Race FlyerRegistration
URL:https://scnca.com/event/eldo-race-series-tt-5/
LOCATION:El Dorado Park\, E Spring Street & El Dorado Park Street\, Long Beach\, California\, 90808
CATEGORIES:Junior,Time Trial
ORGANIZER;CN="Methods To Winning":MAILTO:info@methodstowinning.com
END:VEVENT
BEGIN:VEVENT
DTSTART;TZID=America/Los_Angeles:20230606T000000
DTEND;TZID=America/Los_Angeles:20230606T235959
DTSTAMP:20260421T183159
CREATED:20230311T220645Z
LAST-MODIFIED:20230311T220647Z
UID:7688-1686009600-1686095999@scnca.com
SUMMARY:ELDO Race Series TT #4
DESCRIPTION:Race FlyerRegistration
URL:https://scnca.com/event/eldo-race-series-tt-4/
LOCATION:El Dorado Park\, E Spring Street & El Dorado Park Street\, Long Beach\, California\, 90808
CATEGORIES:Junior,Time Trial
ORGANIZER;CN="Methods To Winning":MAILTO:info@methodstowinning.com
END:VEVENT
BEGIN:VEVENT
DTSTART;TZID=America/Los_Angeles:20230603T000000
DTEND;TZID=America/Los_Angeles:20230603T235959
DTSTAMP:20260421T183159
CREATED:20230420T084922Z
LAST-MODIFIED:20230516T212431Z
UID:7706-1685750400-1685836799@scnca.com
SUMMARY:GMR Challenge Time Trial
DESCRIPTION:Race FlyerRegistration
URL:https://scnca.com/event/gmr-challenge-time-trial-2/
LOCATION:GMR TT\, 1099 Glendora Mountain Rd\, Glendora\, 91741
CATEGORIES:Time Trial
END:VEVENT
BEGIN:VEVENT
DTSTART;TZID=America/Los_Angeles:20230527T000000
DTEND;TZID=America/Los_Angeles:20230527T235959
DTSTAMP:20260421T183159
CREATED:20221212T085048Z
LAST-MODIFIED:20230516T223211Z
UID:7441-1685145600-1685231999@scnca.com
SUMMARY:CALIFORNIA STATE CHAMPIONSHIPS:Team Time Trials
DESCRIPTION:Race FlyerRegistration
URL:https://scnca.com/event/california-state-championshipsteam-time-trials-2/
LOCATION:Lake Los Angeles\, 180th Street East and Avenue O\, Lake Los Angeles\, CA\, 93535\, United States
CATEGORIES:State Championship,Time Trial
END:VEVENT
BEGIN:VEVENT
DTSTART;TZID=America/Los_Angeles:20230513T000000
DTEND;TZID=America/Los_Angeles:20230513T235959
DTSTAMP:20260421T183159
CREATED:20221212T084858Z
LAST-MODIFIED:20230510T003628Z
UID:7439-1683936000-1684022399@scnca.com
SUMMARY:CALIFORNIA STATE CHAMPIONSHIPS:Individual Time Trials
DESCRIPTION:Race Flyer \nRegistration
URL:https://scnca.com/event/california-state-championshipsindividual-time-trials-4/
LOCATION:Lake Los Angeles\, 180th Street East and Avenue O\, Lake Los Angeles\, CA\, 93535\, United States
CATEGORIES:State Championship,Time Trial
END:VEVENT
BEGIN:VEVENT
DTSTART;TZID=America/Los_Angeles:20230509T000000
DTEND;TZID=America/Los_Angeles:20230509T235959
DTSTAMP:20260421T183159
CREATED:20230311T220519Z
LAST-MODIFIED:20230311T220521Z
UID:7686-1683590400-1683676799@scnca.com
SUMMARY:ELDO Race Series TT #3
DESCRIPTION:Race FlyerRegistration
URL:https://scnca.com/event/eldo-race-series-tt-3/
LOCATION:El Dorado Park\, E Spring Street & El Dorado Park Street\, Long Beach\, California\, 90808
CATEGORIES:Junior,Time Trial
ORGANIZER;CN="Methods To Winning":MAILTO:info@methodstowinning.com
END:VEVENT
BEGIN:VEVENT
DTSTART;TZID=America/Los_Angeles:20230502T000000
DTEND;TZID=America/Los_Angeles:20230502T235959
DTSTAMP:20260421T183159
CREATED:20230311T220315Z
LAST-MODIFIED:20230311T220317Z
UID:7684-1682985600-1683071999@scnca.com
SUMMARY:ELDO Race Series TT #2
DESCRIPTION:Race FlyerRegistration
URL:https://scnca.com/event/eldo-race-series-tt-2/
LOCATION:El Dorado Park\, E Spring Street & El Dorado Park Street\, Long Beach\, California\, 90808
CATEGORIES:Junior,Time Trial
ORGANIZER;CN="Methods To Winning":MAILTO:info@methodstowinning.com
END:VEVENT
BEGIN:VEVENT
DTSTART;TZID=America/Los_Angeles:20230416T000000
DTEND;TZID=America/Los_Angeles:20230416T235959
DTSTAMP:20260421T183159
CREATED:20230311T214909Z
LAST-MODIFIED:20230311T214910Z
UID:7679-1681603200-1681689599@scnca.com
SUMMARY:Redlands Downtown Criteriums
DESCRIPTION:Race FlyerRegistration
URL:https://scnca.com/event/redlands-downtown-criteriums/
LOCATION:Redlands\, CA
CATEGORIES:Criterium,Time Trial
END:VEVENT
BEGIN:VEVENT
DTSTART;TZID=America/Los_Angeles:20230412T000000
DTEND;TZID=America/Los_Angeles:20230416T235959
DTSTAMP:20260421T183159
CREATED:20221212T083715Z
LAST-MODIFIED:20230204T101336Z
UID:7426-1681257600-1681689599@scnca.com
SUMMARY:Redlands Bicycle Classic
DESCRIPTION:Race FlyerRegistration
URL:https://scnca.com/event/redlands-bicycle-classic-2/
LOCATION:Redlands\, CA
CATEGORIES:Criterium,Road Race,Stage Race,Time Trial
END:VEVENT
BEGIN:VEVENT
DTSTART;TZID=America/Los_Angeles:20230404T000000
DTEND;TZID=America/Los_Angeles:20230404T235959
DTSTAMP:20260421T183159
CREATED:20230311T220143Z
LAST-MODIFIED:20230311T220144Z
UID:7682-1680566400-1680652799@scnca.com
SUMMARY:ELDO Race Series TT #1
DESCRIPTION:Race FlyerRegistration
URL:https://scnca.com/event/eldo-race-series-tt-1/
LOCATION:El Dorado Park\, E Spring Street & El Dorado Park Street\, Long Beach\, California\, 90808
CATEGORIES:Junior,Time Trial
ORGANIZER;CN="Methods To Winning":MAILTO:info@methodstowinning.com
END:VEVENT
BEGIN:VEVENT
DTSTART;TZID=America/Los_Angeles:20220709T000000
DTEND;TZID=America/Los_Angeles:20220709T235959
DTSTAMP:20260421T183159
CREATED:20220512T104129Z
LAST-MODIFIED:20220512T105115Z
UID:7279-1657324800-1657411199@scnca.com
SUMMARY:GMR Challenge Time Trial
DESCRIPTION:Race FlyerRegistration
URL:https://scnca.com/event/gmr-challenge-time-trial/
LOCATION:GMR TT\, 1099 Glendora Mountain Rd\, Glendora\, 91741
CATEGORIES:Time Trial
END:VEVENT
BEGIN:VEVENT
DTSTART;TZID=America/Los_Angeles:20220618T000000
DTEND;TZID=America/Los_Angeles:20220618T235959
DTSTAMP:20260421T183159
CREATED:20220418T080650Z
LAST-MODIFIED:20220515T150331Z
UID:7171-1655510400-1655596799@scnca.com
SUMMARY:CALIFORNIA STATE CHAMPIONSHIPS:Team Time Trials
DESCRIPTION:Race FlyerRegistration
URL:https://scnca.com/event/california-state-championshipsteam-time-trials/
LOCATION:Lake Los Angeles\, 180th Street East and Avenue O\, Lake Los Angeles\, CA\, 93535\, United States
CATEGORIES:State Championship,Time Trial
END:VEVENT
BEGIN:VEVENT
DTSTART;TZID=America/Los_Angeles:20220611T000000
DTEND;TZID=America/Los_Angeles:20220611T235959
DTSTAMP:20260421T183159
CREATED:20220418T080423Z
LAST-MODIFIED:20220515T150449Z
UID:7169-1654905600-1654991999@scnca.com
SUMMARY:CALIFORNIA STATE CHAMPIONSHIPS:Individual Time Trials
DESCRIPTION:Race FlyerRegistration
URL:https://scnca.com/event/california-state-championshipsindividual-time-trials-3/
LOCATION:Lake Los Angeles\, 180th Street East and Avenue O\, Lake Los Angeles\, CA\, 93535\, United States
CATEGORIES:State Championship,Time Trial
END:VEVENT
BEGIN:VEVENT
DTSTART;TZID=America/Los_Angeles:20220420T000000
DTEND;TZID=America/Los_Angeles:20220424T235959
DTSTAMP:20260421T183159
CREATED:20220203T115613Z
LAST-MODIFIED:20220402T202853Z
UID:7054-1650412800-1650844799@scnca.com
SUMMARY:Redlands Bicycle Classic
DESCRIPTION:Race FlyerRegistration
URL:https://scnca.com/event/redlands-bicycle-classic/
LOCATION:Redlands\, CA
CATEGORIES:Criterium,Road Race,Stage Race,Time Trial
END:VEVENT
END:VCALENDAR