BEGIN:VCALENDAR
VERSION:2.0
PRODID:-//SCNCA | The Southern California / Nevada Cycling Association - ECPv6.15.18//NONSGML v1.0//EN
CALSCALE:GREGORIAN
METHOD:PUBLISH
X-WR-CALNAME:SCNCA | The Southern California / Nevada Cycling Association
X-ORIGINAL-URL:https://scnca.com
X-WR-CALDESC:Events for SCNCA | The Southern California / Nevada Cycling Association
REFRESH-INTERVAL;VALUE=DURATION:PT1H
X-Robots-Tag:noindex
X-PUBLISHED-TTL:PT1H
BEGIN:VTIMEZONE
TZID:America/Los_Angeles
BEGIN:DAYLIGHT
TZOFFSETFROM:-0800
TZOFFSETTO:-0700
TZNAME:PDT
DTSTART:20250309T100000
END:DAYLIGHT
BEGIN:STANDARD
TZOFFSETFROM:-0700
TZOFFSETTO:-0800
TZNAME:PST
DTSTART:20251102T090000
END:STANDARD
BEGIN:DAYLIGHT
TZOFFSETFROM:-0800
TZOFFSETTO:-0700
TZNAME:PDT
DTSTART:20260308T100000
END:DAYLIGHT
BEGIN:STANDARD
TZOFFSETFROM:-0700
TZOFFSETTO:-0800
TZNAME:PST
DTSTART:20261101T090000
END:STANDARD
BEGIN:DAYLIGHT
TZOFFSETFROM:-0800
TZOFFSETTO:-0700
TZNAME:PDT
DTSTART:20270314T100000
END:DAYLIGHT
BEGIN:STANDARD
TZOFFSETFROM:-0700
TZOFFSETTO:-0800
TZNAME:PST
DTSTART:20271107T090000
END:STANDARD
END:VTIMEZONE
BEGIN:VEVENT
DTSTART;TZID=America/Los_Angeles:20260428T000000
DTEND;TZID=America/Los_Angeles:20260428T235959
DTSTAMP:20260421T183036
CREATED:20260331T084629Z
LAST-MODIFIED:20260331T084635Z
UID:9198-1777334400-1777420799@scnca.com
SUMMARY:ELDO Race Series TT #2
DESCRIPTION:Race FlyerRegistration
URL:https://scnca.com/event/eldo-race-series-tt-2-2/
LOCATION:El Dorado Park\, E Spring Street & El Dorado Park Street\, Long Beach\, California\, 90808
CATEGORIES:Junior,Time Trial
ORGANIZER;CN="Methods To Winning":MAILTO:info@methodstowinning.com
END:VEVENT
BEGIN:VEVENT
DTSTART;TZID=America/Los_Angeles:20260519T000000
DTEND;TZID=America/Los_Angeles:20260519T235959
DTSTAMP:20260421T183036
CREATED:20260331T084812Z
LAST-MODIFIED:20260331T084819Z
UID:9200-1779148800-1779235199@scnca.com
SUMMARY:ELDO Race Series TT #3
DESCRIPTION:Race FlyerRegistration
URL:https://scnca.com/event/eldo-race-series-tt-3-2/
LOCATION:El Dorado Park\, E Spring Street & El Dorado Park Street\, Long Beach\, California\, 90808
CATEGORIES:Junior,Time Trial
ORGANIZER;CN="Methods To Winning":MAILTO:info@methodstowinning.com
END:VEVENT
BEGIN:VEVENT
DTSTART;TZID=America/Los_Angeles:20260523T000000
DTEND;TZID=America/Los_Angeles:20260523T235959
DTSTAMP:20260421T183036
CREATED:20260225T080153Z
LAST-MODIFIED:20260225T080210Z
UID:9151-1779494400-1779580799@scnca.com
SUMMARY:GMR Challenge Time Trial
DESCRIPTION:Race FlyerRegistration
URL:https://scnca.com/event/gmr-challenge-time-trial-5/
LOCATION:GMR TT\, 1099 Glendora Mountain Rd\, Glendora\, 91741
CATEGORIES:Time Trial
END:VEVENT
BEGIN:VEVENT
DTSTART;TZID=America/Los_Angeles:20260530T000000
DTEND;TZID=America/Los_Angeles:20260530T235959
DTSTAMP:20260421T183036
CREATED:20260127T072755Z
LAST-MODIFIED:20260127T073107Z
UID:9108-1780099200-1780185599@scnca.com
SUMMARY:SCNCA CHAMPIONSHIPS:Team Time Trials
DESCRIPTION:Race Flyer (not yet posted)Registration (not yet posted)
URL:https://scnca.com/event/scnca-championshipsteam-time-trials/
LOCATION:Lake Los Angeles\, 180th Street East and Avenue O\, Lake Los Angeles\, CA\, 93535\, United States
CATEGORIES:SCNCA Championship,Time Trial
END:VEVENT
BEGIN:VEVENT
DTSTART;TZID=America/Los_Angeles:20260613T000000
DTEND;TZID=America/Los_Angeles:20260613T235959
DTSTAMP:20260421T183036
CREATED:20260127T072534Z
LAST-MODIFIED:20260417T000806Z
UID:9106-1781308800-1781395199@scnca.com
SUMMARY:SCNCA CHAMPIONSHIPS:Individual Time Trials
DESCRIPTION:Race Flyer (not yet posted) \nRegistration (not yet posted)
URL:https://scnca.com/event/scnca-championshipsindividual-time-trials/
LOCATION:Lake Los Angeles\, 180th Street East and Avenue O\, Lake Los Angeles\, CA\, 93535\, United States
CATEGORIES:SCNCA Championship,Time Trial
END:VEVENT
END:VCALENDAR