BEGIN:VCALENDAR
VERSION:2.0
PRODID:-//SCNCA | The Southern California / Nevada Cycling Association - ECPv6.15.18//NONSGML v1.0//EN
CALSCALE:GREGORIAN
METHOD:PUBLISH
X-WR-CALNAME:SCNCA | The Southern California / Nevada Cycling Association
X-ORIGINAL-URL:https://scnca.com
X-WR-CALDESC:Events for SCNCA | The Southern California / Nevada Cycling Association
REFRESH-INTERVAL;VALUE=DURATION:PT1H
X-Robots-Tag:noindex
X-PUBLISHED-TTL:PT1H
BEGIN:VTIMEZONE
TZID:America/Los_Angeles
BEGIN:DAYLIGHT
TZOFFSETFROM:-0800
TZOFFSETTO:-0700
TZNAME:PDT
DTSTART:20230312T100000
END:DAYLIGHT
BEGIN:STANDARD
TZOFFSETFROM:-0700
TZOFFSETTO:-0800
TZNAME:PST
DTSTART:20231105T090000
END:STANDARD
BEGIN:DAYLIGHT
TZOFFSETFROM:-0800
TZOFFSETTO:-0700
TZNAME:PDT
DTSTART:20240310T100000
END:DAYLIGHT
BEGIN:STANDARD
TZOFFSETFROM:-0700
TZOFFSETTO:-0800
TZNAME:PST
DTSTART:20241103T090000
END:STANDARD
BEGIN:DAYLIGHT
TZOFFSETFROM:-0800
TZOFFSETTO:-0700
TZNAME:PDT
DTSTART:20250309T100000
END:DAYLIGHT
BEGIN:STANDARD
TZOFFSETFROM:-0700
TZOFFSETTO:-0800
TZNAME:PST
DTSTART:20251102T090000
END:STANDARD
END:VTIMEZONE
BEGIN:VEVENT
DTSTART;TZID=America/Los_Angeles:20241019T000000
DTEND;TZID=America/Los_Angeles:20241019T235959
DTSTAMP:20260424T151227
CREATED:20240821T032727Z
LAST-MODIFIED:20240821T033008Z
UID:8577-1729296000-1729382399@scnca.com
SUMMARY:SCNCA Gravel District Championships
DESCRIPTION:Race FlyerRegistration
URL:https://scnca.com/event/scnca-gravel-district-championships/
LOCATION:Apple Valley Gravel\, 21600 Corwin Road\, Apple Valley\, California\, 92307
CATEGORIES:Gravel,State Championship
ORGANIZER;CN="Majestic Cycling":MAILTO:alfiesanchez@aol.com
END:VEVENT
BEGIN:VEVENT
DTSTART;TZID=America/Los_Angeles:20241019T000000
DTEND;TZID=America/Los_Angeles:20241019T235900
DTSTAMP:20260424T151227
CREATED:20240109T100729Z
LAST-MODIFIED:20240109T100731Z
UID:8136-1729296000-1729382340@scnca.com
SUMMARY:Coyote Classic XC Series #2
DESCRIPTION:Race FlyerRegistration
URL:https://scnca.com/event/coyote-classic-xc-series-2/
LOCATION:Bootleg Canyon Racing\, 1027 Canyon Road\, Boulder City\, Nevada\, 89005
CATEGORIES:Mountain Bike
END:VEVENT
BEGIN:VEVENT
DTSTART;TZID=America/Los_Angeles:20241012T080000
DTEND;TZID=America/Los_Angeles:20241012T170000
DTSTAMP:20260424T151227
CREATED:20241011T005338Z
LAST-MODIFIED:20241011T005341Z
UID:8614-1728720000-1728752400@scnca.com
SUMMARY:Inglewood Pumptrack Second Saturdays Bike Series
DESCRIPTION:Race FlyerRegistration
URL:https://scnca.com/event/inglewood-pumptrack-second-saturdays-bike-series-2/
LOCATION:Inglewood Pumptrack\, 700 Warren Lane\, Inglewood\, California
CATEGORIES:BMX
END:VEVENT
BEGIN:VEVENT
DTSTART;TZID=America/Los_Angeles:20240928T000000
DTEND;TZID=America/Los_Angeles:20240928T235959
DTSTAMP:20260424T151227
CREATED:20240906T203047Z
LAST-MODIFIED:20240906T203116Z
UID:8593-1727481600-1727567999@scnca.com
SUMMARY:EACC (Elite Athlete Center Criterium)
DESCRIPTION:Race FlyerRegistration
URL:https://scnca.com/event/eacc-elite-athlete-center-criterium/
LOCATION:EACC\, 2800 Olympic Pkwy\, Chula Vista\, California\, 91915
CATEGORIES:Criterium,Elite,Junior,Masters
END:VEVENT
BEGIN:VEVENT
DTSTART;TZID=America/Los_Angeles:20240921T000000
DTEND;TZID=America/Los_Angeles:20240921T235900
DTSTAMP:20260424T151227
CREATED:20240109T100538Z
LAST-MODIFIED:20240109T100921Z
UID:8134-1726876800-1726963140@scnca.com
SUMMARY:Coyote Classic XC Series #1
DESCRIPTION:Race FlyerRegistration
URL:https://scnca.com/event/coyote-classic-xc-series/
LOCATION:Bootleg Canyon Racing\, 1027 Canyon Road\, Boulder City\, Nevada\, 89005
CATEGORIES:Mountain Bike
END:VEVENT
BEGIN:VEVENT
DTSTART;TZID=America/Los_Angeles:20240913T000000
DTEND;TZID=America/Los_Angeles:20240915T235900
DTSTAMP:20260424T151227
CREATED:20240217T093625Z
LAST-MODIFIED:20240217T093627Z
UID:8284-1726185600-1726444740@scnca.com
SUMMARY:2024 Southwest Downhill Series RD4
DESCRIPTION:Race FlyerRegistration
URL:https://scnca.com/event/2024-southwest-downhill-series-rd4/
LOCATION:Vailocity Bike Park\, 38000 CA-79\, Temecula\, California\, 92592
CATEGORIES:Mountain Bike
ORGANIZER;CN="Southwest Downhill":MAILTO:steven@southwestdh.com
END:VEVENT
BEGIN:VEVENT
DTSTART;TZID=America/Los_Angeles:20240907T000000
DTEND;TZID=America/Los_Angeles:20240907T235959
DTSTAMP:20260424T151227
CREATED:20240301T061432Z
LAST-MODIFIED:20240301T061436Z
UID:8367-1725667200-1725753599@scnca.com
SUMMARY:ELDO Race Series #25
DESCRIPTION:Race FlyerRegistration
URL:https://scnca.com/event/eldo-race-series-25/
LOCATION:El Dorado Park\, E Spring Street & El Dorado Park Street\, Long Beach\, California\, 90808
CATEGORIES:Criterium,Junior
ORGANIZER;CN="Methods To Winning":MAILTO:info@methodstowinning.com
END:VEVENT
BEGIN:VEVENT
DTSTART;TZID=America/Los_Angeles:20240720T000000
DTEND;TZID=America/Los_Angeles:20240720T235959
DTSTAMP:20260424T151227
CREATED:20240401T162216Z
LAST-MODIFIED:20240401T163159Z
UID:8420-1721433600-1721519999@scnca.com
SUMMARY:EACC (Elite Athlete Center Criterium)
DESCRIPTION:Race FlyerRegistration
URL:https://scnca.com/event/elite-athlete-center-criterium-2/
LOCATION:EACC\, 2800 Olympic Pkwy\, Chula Vista\, California\, 91915
CATEGORIES:Criterium,Elite,Junior,Masters
END:VEVENT
BEGIN:VEVENT
DTSTART;TZID=America/Los_Angeles:20240827T000000
DTEND;TZID=America/Los_Angeles:20240827T235959
DTSTAMP:20260424T151227
CREATED:20240301T061247Z
LAST-MODIFIED:20240301T061252Z
UID:8365-1724716800-1724803199@scnca.com
SUMMARY:ELDO Race Series #24
DESCRIPTION:Race FlyerRegistration
URL:https://scnca.com/event/eldo-race-series-24/
LOCATION:El Dorado Park\, E Spring Street & El Dorado Park Street\, Long Beach\, California\, 90808
CATEGORIES:Criterium,Junior
ORGANIZER;CN="Methods To Winning":MAILTO:info@methodstowinning.com
END:VEVENT
BEGIN:VEVENT
DTSTART;TZID=America/Los_Angeles:20240820T000000
DTEND;TZID=America/Los_Angeles:20240820T235959
DTSTAMP:20260424T151227
CREATED:20240301T061117Z
LAST-MODIFIED:20240301T061119Z
UID:8363-1724112000-1724198399@scnca.com
SUMMARY:ELDO Race Series #23
DESCRIPTION:Race FlyerRegistration
URL:https://scnca.com/event/eldo-race-series-23-2/
LOCATION:El Dorado Park\, E Spring Street & El Dorado Park Street\, Long Beach\, California\, 90808
CATEGORIES:Criterium,Junior
ORGANIZER;CN="Methods To Winning":MAILTO:info@methodstowinning.com
END:VEVENT
BEGIN:VEVENT
DTSTART;TZID=America/Los_Angeles:20240818T000000
DTEND;TZID=America/Los_Angeles:20240818T235959
DTSTAMP:20260424T151227
CREATED:20240710T222827Z
LAST-MODIFIED:20240710T222829Z
UID:8541-1723939200-1724025599@scnca.com
SUMMARY:Go Fast Upland Crit
DESCRIPTION:Race FlyerRegistration
URL:https://scnca.com/event/go-fast-upland-crit/
LOCATION:Upland\, 1100 East Foothill Boulevard\, Upland\, California\, 91786
CATEGORIES:Criterium
ORGANIZER;CN="Go Fast Andiamo":MAILTO:patrickcaro@yahoo.com
END:VEVENT
BEGIN:VEVENT
DTSTART;TZID=America/Los_Angeles:20240813T000000
DTEND;TZID=America/Los_Angeles:20240813T235959
DTSTAMP:20260424T151227
CREATED:20240301T060941Z
LAST-MODIFIED:20240301T060945Z
UID:8361-1723507200-1723593599@scnca.com
SUMMARY:ELDO Race Series #22
DESCRIPTION:Race FlyerRegistration
URL:https://scnca.com/event/eldo-race-series-22-2/
LOCATION:El Dorado Park\, E Spring Street & El Dorado Park Street\, Long Beach\, California\, 90808
CATEGORIES:Criterium,Junior
ORGANIZER;CN="Methods To Winning":MAILTO:info@methodstowinning.com
END:VEVENT
BEGIN:VEVENT
DTSTART;TZID=America/Los_Angeles:20240806T000000
DTEND;TZID=America/Los_Angeles:20240806T235959
DTSTAMP:20260424T151227
CREATED:20240301T060803Z
LAST-MODIFIED:20240301T060805Z
UID:8359-1722902400-1722988799@scnca.com
SUMMARY:ELDO Race Series #21
DESCRIPTION:Race FlyerRegistration
URL:https://scnca.com/event/eldo-race-series-21-2/
LOCATION:El Dorado Park\, E Spring Street & El Dorado Park Street\, Long Beach\, California\, 90808
CATEGORIES:Criterium,Junior
ORGANIZER;CN="Methods To Winning":MAILTO:info@methodstowinning.com
END:VEVENT
BEGIN:VEVENT
DTSTART;TZID=America/Los_Angeles:20240730T000000
DTEND;TZID=America/Los_Angeles:20240730T235959
DTSTAMP:20260424T151227
CREATED:20240301T060616Z
LAST-MODIFIED:20240301T060619Z
UID:8357-1722297600-1722383999@scnca.com
SUMMARY:ELDO Race Series #20
DESCRIPTION:Race FlyerRegistration
URL:https://scnca.com/event/eldo-race-series-20-3/
LOCATION:El Dorado Park\, E Spring Street & El Dorado Park Street\, Long Beach\, California\, 90808
CATEGORIES:Criterium,Junior
ORGANIZER;CN="Methods To Winning":MAILTO:info@methodstowinning.com
END:VEVENT
BEGIN:VEVENT
DTSTART;TZID=America/Los_Angeles:20240723T000000
DTEND;TZID=America/Los_Angeles:20240723T235959
DTSTAMP:20260424T151227
CREATED:20240301T060432Z
LAST-MODIFIED:20240301T060435Z
UID:8355-1721692800-1721779199@scnca.com
SUMMARY:ELDO Race Series #19
DESCRIPTION:Race FlyerRegistration
URL:https://scnca.com/event/eldo-race-series-19-3/
LOCATION:El Dorado Park\, E Spring Street & El Dorado Park Street\, Long Beach\, California\, 90808
CATEGORIES:Criterium,Junior
ORGANIZER;CN="Methods To Winning":MAILTO:info@methodstowinning.com
END:VEVENT
BEGIN:VEVENT
DTSTART;TZID=America/Los_Angeles:20240721T000000
DTEND;TZID=America/Los_Angeles:20240721T235959
DTSTAMP:20260424T151227
CREATED:20240310T193450Z
LAST-MODIFIED:20240408T212934Z
UID:8394-1721520000-1721606399@scnca.com
SUMMARY:Costa Mesa Grand Prix
DESCRIPTION:Race FlyerRegistration
URL:https://scnca.com/event/costa-mesa-grand-prix/
LOCATION:Majestic Costa Mesa #2\, 3555 Harbor Gateway S.\, Costa Mesa\, California\, 92626
CATEGORIES:Criterium,Elite,Masters
ORGANIZER;CN="Majestic Cycling":MAILTO:alfiesanchez@aol.com
END:VEVENT
BEGIN:VEVENT
DTSTART;TZID=America/Los_Angeles:20240720T000000
DTEND;TZID=America/Los_Angeles:20240721T235959
DTSTAMP:20260424T151227
CREATED:20240707T072218Z
LAST-MODIFIED:20240707T074250Z
UID:8537-1721433600-1721606399@scnca.com
SUMMARY:Arizona Track / California Masters & Juniors Championships (Encino\, CA)
DESCRIPTION:Race FlyerRegistration
URL:https://scnca.com/event/arizona-track-california-masters-juniors-championships-encino-ca/
LOCATION:Encino Velodrome\, 17301 W. Oxnard Street\, Encino\, CA\, 91316\, United States
CATEGORIES:Junior,Masters,State Championship,Track
END:VEVENT
BEGIN:VEVENT
DTSTART;TZID=America/Los_Angeles:20240720T000000
DTEND;TZID=America/Los_Angeles:20240720T235959
DTSTAMP:20260424T151227
CREATED:20240401T162216Z
LAST-MODIFIED:20240401T163159Z
UID:8420-1721433600-1721519999@scnca.com
SUMMARY:EACC (Elite Athlete Center Criterium)
DESCRIPTION:Race FlyerRegistration
URL:https://scnca.com/event/elite-athlete-center-criterium-2/
LOCATION:EACC\, 2800 Olympic Pkwy\, Chula Vista\, California\, 91915
CATEGORIES:Criterium,Elite,Junior,Masters
END:VEVENT
BEGIN:VEVENT
DTSTART;TZID=America/Los_Angeles:20240716T000000
DTEND;TZID=America/Los_Angeles:20240716T235959
DTSTAMP:20260424T151227
CREATED:20240301T060257Z
LAST-MODIFIED:20240301T060300Z
UID:8353-1721088000-1721174399@scnca.com
SUMMARY:ELDO Race Series #18
DESCRIPTION:Race FlyerRegistration
URL:https://scnca.com/event/eldo-race-series-18-3/
LOCATION:El Dorado Park\, E Spring Street & El Dorado Park Street\, Long Beach\, California\, 90808
CATEGORIES:Criterium,Junior
ORGANIZER;CN="Methods To Winning":MAILTO:info@methodstowinning.com
END:VEVENT
BEGIN:VEVENT
DTSTART;TZID=America/Los_Angeles:20240714T000000
DTEND;TZID=America/Los_Angeles:20240714T235959
DTSTAMP:20260424T151227
CREATED:20240420T122355Z
LAST-MODIFIED:20240420T122358Z
UID:8434-1720915200-1721001599@scnca.com
SUMMARY:Manhattan Beach Grand Prix SCNCA Elite State Crit Championship
DESCRIPTION:Race FlyerRegistration
URL:https://scnca.com/event/manhattan-beach-grand-prix-scnca-elite-state-crit-championship/
LOCATION:Manhattan Beach Grand Prix – Live Oak Park\, 1901 N. Valley Drive\, Manhattan Beach\, CA\, 90266\, United States
CATEGORIES:Criterium,State Championship
END:VEVENT
BEGIN:VEVENT
DTSTART;TZID=America/Los_Angeles:20240713T000000
DTEND;TZID=America/Los_Angeles:20240713T235959
DTSTAMP:20260424T151227
CREATED:20240629T061428Z
LAST-MODIFIED:20240629T061430Z
UID:8525-1720828800-1720915199@scnca.com
SUMMARY:The Dam Dash\, "Chase" the Record
DESCRIPTION:Race FlyerRegistration
URL:https://scnca.com/event/the-dam-dash-chase-the-record/
LOCATION:Dam Dash\, 751 Encanto Pkwy\, Duarte\, California\, 91010
CATEGORIES:Time Trial
ORGANIZER;CN="Cycltherapy":MAILTO:spotteraaricka@gmail.com
END:VEVENT
BEGIN:VEVENT
DTSTART;TZID=America/Los_Angeles:20240709T000000
DTEND;TZID=America/Los_Angeles:20240709T235959
DTSTAMP:20260424T151227
CREATED:20240301T055842Z
LAST-MODIFIED:20240301T060103Z
UID:8350-1720483200-1720569599@scnca.com
SUMMARY:ELDO Race Series #17
DESCRIPTION:Race FlyerRegistration
URL:https://scnca.com/event/eldo-race-series-17-3/
LOCATION:El Dorado Park\, E Spring Street & El Dorado Park Street\, Long Beach\, California\, 90808
CATEGORIES:Criterium,Junior
ORGANIZER;CN="Methods To Winning":MAILTO:info@methodstowinning.com
END:VEVENT
BEGIN:VEVENT
DTSTART;TZID=America/Los_Angeles:20240702T000000
DTEND;TZID=America/Los_Angeles:20240702T235959
DTSTAMP:20260424T151227
CREATED:20240301T055525Z
LAST-MODIFIED:20240301T055528Z
UID:8348-1719878400-1719964799@scnca.com
SUMMARY:ELDO Race Series #16
DESCRIPTION:Race FlyerRegistration
URL:https://scnca.com/event/eldo-race-series-16-3/
LOCATION:El Dorado Park\, E Spring Street & El Dorado Park Street\, Long Beach\, California\, 90808
CATEGORIES:Criterium,Junior
ORGANIZER;CN="Methods To Winning":MAILTO:info@methodstowinning.com
END:VEVENT
BEGIN:VEVENT
DTSTART;TZID=America/Los_Angeles:20240630T000000
DTEND;TZID=America/Los_Angeles:20240630T235959
DTSTAMP:20260424T151227
CREATED:20240501T050439Z
LAST-MODIFIED:20240515T074152Z
UID:8443-1719705600-1719791999@scnca.com
SUMMARY:Chuck Pontius Memorial Criterium
DESCRIPTION:Race FlyerRegistration
URL:https://scnca.com/event/chuck-pontius-memorial-criterium-2/
LOCATION:Santa Clarita\, CA
CATEGORIES:Criterium
ORGANIZER;CN="Go Fast Andiamo":MAILTO:patrickcaro@yahoo.com
END:VEVENT
BEGIN:VEVENT
DTSTART;TZID=America/Los_Angeles:20240625T000000
DTEND;TZID=America/Los_Angeles:20240625T235959
DTSTAMP:20260424T151227
CREATED:20240301T055311Z
LAST-MODIFIED:20240301T055314Z
UID:8346-1719273600-1719359999@scnca.com
SUMMARY:ELDO Race Series #15
DESCRIPTION:Race FlyerRegistration
URL:https://scnca.com/event/eldo-race-series-15-3/
LOCATION:El Dorado Park\, E Spring Street & El Dorado Park Street\, Long Beach\, California\, 90808
CATEGORIES:Criterium,Junior
ORGANIZER;CN="Methods To Winning":MAILTO:info@methodstowinning.com
END:VEVENT
BEGIN:VEVENT
DTSTART;TZID=America/Los_Angeles:20240622T000000
DTEND;TZID=America/Los_Angeles:20240622T235959
DTSTAMP:20260424T151227
CREATED:20240503T103056Z
LAST-MODIFIED:20240503T103058Z
UID:8445-1719014400-1719100799@scnca.com
SUMMARY:GMR Challenge Time Trial
DESCRIPTION:Race FlyerRegistration
URL:https://scnca.com/event/gmr-challenge-time-trial-3/
LOCATION:GMR TT\, 1099 Glendora Mountain Rd\, Glendora\, 91741
CATEGORIES:Time Trial
END:VEVENT
BEGIN:VEVENT
DTSTART;TZID=America/Los_Angeles:20240620T000000
DTEND;TZID=America/Los_Angeles:20240623T235959
DTSTAMP:20260424T151227
CREATED:20240226T043521Z
LAST-MODIFIED:20240226T045545Z
UID:8303-1718841600-1719187199@scnca.com
SUMMARY:USA Cycling Regional Development Road Camp
DESCRIPTION:FlyerRegistration
URL:https://scnca.com/event/usa-cycling-regional-development-road-camp/
LOCATION:CVEATC\, 2800 Olympic Pkwy\, Chula Vista\, California\, 91915
CATEGORIES:Camp,Junior
ORGANIZER;CN="Source Endurance":MAILTO:inquire@source-e.net
END:VEVENT
BEGIN:VEVENT
DTSTART;TZID=America/Los_Angeles:20240618T000000
DTEND;TZID=America/Los_Angeles:20240618T235959
DTSTAMP:20260424T151227
CREATED:20240301T055128Z
LAST-MODIFIED:20240301T055132Z
UID:8344-1718668800-1718755199@scnca.com
SUMMARY:ELDO Race Series #14
DESCRIPTION:Race FlyerRegistration
URL:https://scnca.com/event/eldo-race-series-14-3/
LOCATION:El Dorado Park\, E Spring Street & El Dorado Park Street\, Long Beach\, California\, 90808
CATEGORIES:Criterium,Junior
ORGANIZER;CN="Methods To Winning":MAILTO:info@methodstowinning.com
END:VEVENT
BEGIN:VEVENT
DTSTART;TZID=America/Los_Angeles:20240615T000000
DTEND;TZID=America/Los_Angeles:20240615T235959
DTSTAMP:20260424T151227
CREATED:20240426T221909Z
LAST-MODIFIED:20240426T221911Z
UID:8437-1718409600-1718495999@scnca.com
SUMMARY:Barrio Logan Grand Prix SCNCA Junior Crit State Championship
DESCRIPTION:Race FlyerRegistration
URL:https://scnca.com/event/barrio-logan-grand-prix-scnca-junior-crit-state-championship/
LOCATION:Barrio Logan\, 1832 1/2 Newton Ave\, San Diego\, California\, 92113
CATEGORIES:Criterium,Junior,State Championship
END:VEVENT
BEGIN:VEVENT
DTSTART;TZID=America/Los_Angeles:20240611T000000
DTEND;TZID=America/Los_Angeles:20240611T235959
DTSTAMP:20260424T151227
CREATED:20240301T054948Z
LAST-MODIFIED:20240301T054952Z
UID:8342-1718064000-1718150399@scnca.com
SUMMARY:ELDO Race Series #13
DESCRIPTION:Race FlyerRegistration
URL:https://scnca.com/event/eldo-race-series-13-3/
LOCATION:El Dorado Park\, E Spring Street & El Dorado Park Street\, Long Beach\, California\, 90808
CATEGORIES:Criterium,Junior
ORGANIZER;CN="Methods To Winning":MAILTO:info@methodstowinning.com
END:VEVENT
END:VCALENDAR