BEGIN:VCALENDAR
VERSION:2.0
PRODID:-//SCNCA | The Southern California / Nevada Cycling Association - ECPv6.15.18//NONSGML v1.0//EN
CALSCALE:GREGORIAN
METHOD:PUBLISH
X-WR-CALNAME:SCNCA | The Southern California / Nevada Cycling Association
X-ORIGINAL-URL:https://scnca.com
X-WR-CALDESC:Events for SCNCA | The Southern California / Nevada Cycling Association
REFRESH-INTERVAL;VALUE=DURATION:PT1H
X-Robots-Tag:noindex
X-PUBLISHED-TTL:PT1H
BEGIN:VTIMEZONE
TZID:America/Los_Angeles
BEGIN:DAYLIGHT
TZOFFSETFROM:-0800
TZOFFSETTO:-0700
TZNAME:PDT
DTSTART:20230312T100000
END:DAYLIGHT
BEGIN:STANDARD
TZOFFSETFROM:-0700
TZOFFSETTO:-0800
TZNAME:PST
DTSTART:20231105T090000
END:STANDARD
BEGIN:DAYLIGHT
TZOFFSETFROM:-0800
TZOFFSETTO:-0700
TZNAME:PDT
DTSTART:20240310T100000
END:DAYLIGHT
BEGIN:STANDARD
TZOFFSETFROM:-0700
TZOFFSETTO:-0800
TZNAME:PST
DTSTART:20241103T090000
END:STANDARD
BEGIN:DAYLIGHT
TZOFFSETFROM:-0800
TZOFFSETTO:-0700
TZNAME:PDT
DTSTART:20250309T100000
END:DAYLIGHT
BEGIN:STANDARD
TZOFFSETFROM:-0700
TZOFFSETTO:-0800
TZNAME:PST
DTSTART:20251102T090000
END:STANDARD
BEGIN:DAYLIGHT
TZOFFSETFROM:-0800
TZOFFSETTO:-0700
TZNAME:PDT
DTSTART:20260308T100000
END:DAYLIGHT
BEGIN:STANDARD
TZOFFSETFROM:-0700
TZOFFSETTO:-0800
TZNAME:PST
DTSTART:20261101T090000
END:STANDARD
END:VTIMEZONE
BEGIN:VEVENT
DTSTART;TZID=America/Los_Angeles:20250401T000000
DTEND;TZID=America/Los_Angeles:20250401T235959
DTSTAMP:20260424T205115
CREATED:20250325T084614Z
LAST-MODIFIED:20250325T084616Z
UID:8803-1743465600-1743551999@scnca.com
SUMMARY:ELDO Race Series #1
DESCRIPTION:Race FlyerRegistration
URL:https://scnca.com/event/eldo-race-series-1-9/
LOCATION:El Dorado Park\, E Spring Street & El Dorado Park Street\, Long Beach\, California\, 90808
CATEGORIES:Criterium,Junior
ORGANIZER;CN="Methods To Winning":MAILTO:info@methodstowinning.com
END:VEVENT
BEGIN:VEVENT
DTSTART;TZID=America/Los_Angeles:20250330T000000
DTEND;TZID=America/Los_Angeles:20250330T235900
DTSTAMP:20260424T205115
CREATED:20250105T050048Z
LAST-MODIFIED:20250105T050050Z
UID:8697-1743292800-1743379140@scnca.com
SUMMARY:CBR Carson Criterium Series 4 of 6
DESCRIPTION:Race FlyerRegistration
URL:https://scnca.com/event/cbr-carson-criterium-series-4-of-6-3/
LOCATION:CBR – Carson\, Charles Willard Street and Harmon Avenue\, Carson\, CA\, 90220\, United States
CATEGORIES:Criterium,Elite,Masters
ORGANIZER;CN="California Bicycle Racing":MAILTO:kandjracing@gmail.com
END:VEVENT
BEGIN:VEVENT
DTSTART;TZID=America/Los_Angeles:20250325T000000
DTEND;TZID=America/Los_Angeles:20250325T235959
DTSTAMP:20260424T205115
CREATED:20250325T084330Z
LAST-MODIFIED:20250325T084332Z
UID:8801-1742860800-1742947199@scnca.com
SUMMARY:ELDO Race Series #1
DESCRIPTION:Race FlyerRegistration
URL:https://scnca.com/event/eldo-race-series-1-8/
LOCATION:El Dorado Park\, E Spring Street & El Dorado Park Street\, Long Beach\, California\, 90808
CATEGORIES:Criterium,Junior
ORGANIZER;CN="Methods To Winning":MAILTO:info@methodstowinning.com
END:VEVENT
BEGIN:VEVENT
DTSTART;TZID=America/Los_Angeles:20250323T000000
DTEND;TZID=America/Los_Angeles:20250323T235959
DTSTAMP:20260424T205115
CREATED:20250313T100606Z
LAST-MODIFIED:20250318T221701Z
UID:8768-1742688000-1742774399@scnca.com
SUMMARY:Chuck Pontius Memorial Criterium
DESCRIPTION:Race FlyerRegistration
URL:https://scnca.com/event/chuck-pontius-memorial-criterium-3/
LOCATION:Santa Clarita\, CA
CATEGORIES:Criterium
ORGANIZER;CN="Go Fast Andiamo":MAILTO:patrickcaro@yahoo.com
END:VEVENT
BEGIN:VEVENT
DTSTART;TZID=America/Los_Angeles:20250316T000000
DTEND;TZID=America/Los_Angeles:20250316T235959
DTSTAMP:20260424T205115
CREATED:20250131T010210Z
LAST-MODIFIED:20250314T000103Z
UID:8720-1742083200-1742169599@scnca.com
SUMMARY:Rosena Ranch Circuit Race
DESCRIPTION:Race FlyerRegistration
URL:https://scnca.com/event/rosena-ranch-circuit-race-6/
LOCATION:San Bernardino\, CA\, 17335 Glen Helen Pkwy\, San Bernardino\, California\, 92407
CATEGORIES:Circuit Race,Elite,Junior,Masters
ORGANIZER;CN="Majestic Cycling":MAILTO:alfiesanchez@aol.com
END:VEVENT
BEGIN:VEVENT
DTSTART;TZID=America/Los_Angeles:20250315T000000
DTEND;TZID=America/Los_Angeles:20250315T235900
DTSTAMP:20260424T205115
CREATED:20241222T094559Z
LAST-MODIFIED:20250313T214727Z
UID:8678-1741996800-1742083140@scnca.com
SUMMARY:Mojave Meltdown #2
DESCRIPTION:Race FlyerRegistration
URL:https://scnca.com/event/mojave-meltdown-2-2/
LOCATION:Bootleg Canyon Racing\, 1027 Canyon Road\, Boulder City\, Nevada\, 89005
CATEGORIES:Mountain Bike
END:VEVENT
BEGIN:VEVENT
DTSTART;TZID=America/Los_Angeles:20250309T000000
DTEND;TZID=America/Los_Angeles:20250309T235900
DTSTAMP:20260424T205115
CREATED:20250105T045933Z
LAST-MODIFIED:20250105T045935Z
UID:8695-1741478400-1741564740@scnca.com
SUMMARY:CBR Dominguez Hills Criterium Series 3 of 6
DESCRIPTION:Race FlyerRegistration
URL:https://scnca.com/event/cbr-dominguez-hills-criterium-series-3-of-6-3/
LOCATION:Dominguez Hills – Broadwick/Paulhan\, Broadwick Street & Paulham Street\, Compton\, CA\, 90220\, United States
CATEGORIES:Criterium,Elite,Masters
ORGANIZER;CN="California Bicycle Racing":MAILTO:kandjracing@gmail.com
END:VEVENT
BEGIN:VEVENT
DTSTART;TZID=America/Los_Angeles:20250302T000000
DTEND;TZID=America/Los_Angeles:20250302T235959
DTSTAMP:20260424T205115
CREATED:20241222T090102Z
LAST-MODIFIED:20250223T102100Z
UID:8655-1740873600-1740959999@scnca.com
SUMMARY:Taylor Elizabeth Clifford Memorial Grand Prix
DESCRIPTION:Race FlyerRegistration
URL:https://scnca.com/event/taylor-elizabeth-clifford-memorial-grand-prix/
LOCATION:Majestic Costa Mesa\, 353 Corporate Dr.\, Costa Mesa\, California\, 92626
CATEGORIES:Criterium,Elite,Junior,Masters
ORGANIZER;CN="Majestic Cycling":MAILTO:alfiesanchez@aol.com
END:VEVENT
BEGIN:VEVENT
DTSTART;TZID=America/Los_Angeles:20250301T000000
DTEND;TZID=America/Los_Angeles:20250302T235900
DTSTAMP:20260424T205115
CREATED:20241222T093758Z
LAST-MODIFIED:20241222T093800Z
UID:8671-1740787200-1740959940@scnca.com
SUMMARY:2025 Southwest Regional Gravity Champs-3
DESCRIPTION:Race FlyerRegistration
URL:https://scnca.com/event/2025-southwest-regional-gravity-champs-3/
LOCATION:Bootleg Canyon Racing\, 1027 Canyon Road\, Boulder City\, Nevada\, 89005
CATEGORIES:Mountain Bike
END:VEVENT
BEGIN:VEVENT
DTSTART;TZID=America/Los_Angeles:20250223T000000
DTEND;TZID=America/Los_Angeles:20250223T235900
DTSTAMP:20260424T205115
CREATED:20250105T045722Z
LAST-MODIFIED:20250105T045724Z
UID:8693-1740268800-1740355140@scnca.com
SUMMARY:CBR Carson Criterium Series 2 of 6
DESCRIPTION:Race FlyerRegistration
URL:https://scnca.com/event/cbr-carson-criterium-series-2-of-6-3/
LOCATION:CBR – Carson\, Charles Willard Street and Harmon Avenue\, Carson\, CA\, 90220\, United States
CATEGORIES:Criterium,Elite,Masters
ORGANIZER;CN="California Bicycle Racing":MAILTO:kandjracing@gmail.com
END:VEVENT
BEGIN:VEVENT
DTSTART;TZID=America/Los_Angeles:20250222T000000
DTEND;TZID=America/Los_Angeles:20250222T235959
DTSTAMP:20260424T205115
CREATED:20241222T084810Z
LAST-MODIFIED:20250218T234825Z
UID:8653-1740182400-1740268799@scnca.com
SUMMARY:Rosena Ranch Circuit Race (postponed to 3/16)
DESCRIPTION:POSTPONED to 3/16
URL:https://scnca.com/event/rosena-ranch-circuit-race-5/
LOCATION:San Bernardino\, CA\, 17335 Glen Helen Pkwy\, San Bernardino\, California\, 92407
CATEGORIES:Circuit Race,Elite,Junior,Masters
ORGANIZER;CN="Majestic Cycling":MAILTO:alfiesanchez@aol.com
END:VEVENT
BEGIN:VEVENT
DTSTART;TZID=America/Los_Angeles:20250215T000000
DTEND;TZID=America/Los_Angeles:20250216T235900
DTSTAMP:20260424T205115
CREATED:20241222T093609Z
LAST-MODIFIED:20241222T093612Z
UID:8668-1739577600-1739750340@scnca.com
SUMMARY:2025 Southwest Regional Gravity Champs-2
DESCRIPTION:Race FlyerRegistration
URL:https://scnca.com/event/2025-southwest-regional-gravity-champs-2/
LOCATION:Bootleg Canyon Racing\, 1027 Canyon Road\, Boulder City\, Nevada\, 89005
CATEGORIES:Mountain Bike
END:VEVENT
BEGIN:VEVENT
DTSTART;TZID=America/Los_Angeles:20250209T000000
DTEND;TZID=America/Los_Angeles:20250209T235900
DTSTAMP:20260424T205115
CREATED:20250131T005322Z
LAST-MODIFIED:20250131T005324Z
UID:8718-1739059200-1739145540@scnca.com
SUMMARY:Roger Millikan Memorial Criterium
DESCRIPTION:Race FlyerRegistration
URL:https://scnca.com/event/roger-millikan-memorial-criterium-4/
LOCATION:Brea\, CA
CATEGORIES:Criterium
ORGANIZER;CN="California Bicycle Racing":MAILTO:kandjracing@gmail.com
END:VEVENT
BEGIN:VEVENT
DTSTART;TZID=America/Los_Angeles:20250202T000000
DTEND;TZID=America/Los_Angeles:20250202T235900
DTSTAMP:20260424T205115
CREATED:20250126T215641Z
LAST-MODIFIED:20250126T215643Z
UID:8714-1738454400-1738540740@scnca.com
SUMMARY:Major Motion Racing 2nd Annual King and Queen of Crit
DESCRIPTION:Race FlyerRegistration
URL:https://scnca.com/event/major-motion-racing-2nd-annual-king-and-queen-of-crit/
LOCATION:Long Beach Major Motion\, 4031 Via Oro Ave\, Long Beach\, California\, 90810
CATEGORIES:Criterium,Elite,Junior,Masters
END:VEVENT
BEGIN:VEVENT
DTSTART;TZID=America/Los_Angeles:20250201T000000
DTEND;TZID=America/Los_Angeles:20250201T235900
DTSTAMP:20260424T205115
CREATED:20241222T094442Z
LAST-MODIFIED:20241222T094513Z
UID:8675-1738368000-1738454340@scnca.com
SUMMARY:Mojave Meltdown #1
DESCRIPTION:Race FlyerRegistration
URL:https://scnca.com/event/mojave-meltdown-1-2/
LOCATION:Bootleg Canyon Racing\, 1027 Canyon Road\, Boulder City\, Nevada\, 89005
CATEGORIES:Mountain Bike
END:VEVENT
BEGIN:VEVENT
DTSTART;TZID=America/Los_Angeles:20250126T000000
DTEND;TZID=America/Los_Angeles:20250126T235900
DTSTAMP:20260424T205115
CREATED:20241222T084432Z
LAST-MODIFIED:20250105T105608Z
UID:8651-1737849600-1737935940@scnca.com
SUMMARY:Cal Poly Criterium
DESCRIPTION:Race FlyerRegistration
URL:https://scnca.com/event/cal-poly-criterium-2/
LOCATION:Cal Poly Cycling Criterium\, 10 Sonoma Ave\, San Luis Obispo\, California\, 93405
CATEGORIES:Criterium
END:VEVENT
BEGIN:VEVENT
DTSTART;TZID=America/Los_Angeles:20250125T000000
DTEND;TZID=America/Los_Angeles:20250125T235959
DTSTAMP:20260424T205115
CREATED:20241222T094106Z
LAST-MODIFIED:20241222T094106Z
UID:8673-1737763200-1737849599@scnca.com
SUMMARY:Santa Barbara County Road Race
DESCRIPTION:Race FlyerRegistration
URL:https://scnca.com/event/santa-barbara-county-road-race-5/
LOCATION:Santa Barbara County RR\, 3992 Orcutt Garey Road\, Santa Maria\, California\, 93454
CATEGORIES:Road Race
END:VEVENT
BEGIN:VEVENT
DTSTART;TZID=America/Los_Angeles:20250119T000000
DTEND;TZID=America/Los_Angeles:20250119T235900
DTSTAMP:20260424T205115
CREATED:20250105T045342Z
LAST-MODIFIED:20250105T045344Z
UID:8691-1737244800-1737331140@scnca.com
SUMMARY:CBR Dominguez Hills Criterium Series 1 of 6
DESCRIPTION:Race FlyerRegistration
URL:https://scnca.com/event/cbr-dominguez-hills-criterium-series-1-of-6-3/
LOCATION:California
CATEGORIES:Criterium,Elite,Masters
ORGANIZER;CN="California Bicycle Racing":MAILTO:kandjracing@gmail.com
END:VEVENT
BEGIN:VEVENT
DTSTART;TZID=America/Los_Angeles:20250118T000000
DTEND;TZID=America/Los_Angeles:20250119T235900
DTSTAMP:20260424T205115
CREATED:20241222T093355Z
LAST-MODIFIED:20241222T093713Z
UID:8664-1737158400-1737331140@scnca.com
SUMMARY:2025 Southwest Regional Gravity Champs-1
DESCRIPTION:Race FlyerRegistration
URL:https://scnca.com/event/2025-southwest-regional-gravity-champs-1/
LOCATION:Bootleg Canyon Racing\, 1027 Canyon Road\, Boulder City\, Nevada\, 89005
CATEGORIES:Mountain Bike
END:VEVENT
BEGIN:VEVENT
DTSTART;TZID=America/Los_Angeles:20250111T000000
DTEND;TZID=America/Los_Angeles:20250111T235959
DTSTAMP:20260424T205115
CREATED:20240905T012946Z
LAST-MODIFIED:20240905T012949Z
UID:8589-1736553600-1736639999@scnca.com
SUMMARY:2025 Bicycle Race Referee Class
DESCRIPTION:Race FlyerRegistration
URL:https://scnca.com/event/2025-bicycle-race-referee-class/
LOCATION:Fremont\, CA and Madera\, CA
CATEGORIES:Clinic,Meeting
END:VEVENT
BEGIN:VEVENT
DTSTART;TZID=America/Los_Angeles:20250104T000000
DTEND;TZID=America/Los_Angeles:20250104T235959
DTSTAMP:20260424T205115
CREATED:20241114T115507Z
LAST-MODIFIED:20241114T120107Z
UID:8637-1735948800-1736035199@scnca.com
SUMMARY:SoCal Early Bird #2
DESCRIPTION:These competition clinics and upgrade criteriums will get you ready for the 2024 season\, helpbuild your confidence\, learn more about the sport\, and become a safe and effective racer. Clin- ics are taught by USACycling Certified Skills Instructors. \nRegistration \nFlyer
URL:https://scnca.com/event/socal-early-bird-2/
LOCATION:Redlands Sports Park\, 1790 N. Dearborn Street\, Redlands\, CA\, 92374\, United States
CATEGORIES:Clinic,Criterium
ORGANIZER;CN="Bikecoach.com":MAILTO:sean@bikecoach.com
END:VEVENT
BEGIN:VEVENT
DTSTART;TZID=America/Los_Angeles:20241229T000000
DTEND;TZID=America/Los_Angeles:20241229T235959
DTSTAMP:20260424T205115
CREATED:20241029T090105Z
LAST-MODIFIED:20241114T115943Z
UID:8620-1735430400-1735516799@scnca.com
SUMMARY:SoCal Early Bird #1
DESCRIPTION:These competition clinics and upgrade criteriums will get you ready for the 2024 season\, helpbuild your confidence\, learn more about the sport\, and become a safe and effective racer. Clin- ics are taught by USACycling Certified Skills Instructors. \nRegistration \nFlyer
URL:https://scnca.com/event/socal-early-bird-1/
LOCATION:Redlands Sports Park\, 1790 N. Dearborn Street\, Redlands\, CA\, 92374\, United States
CATEGORIES:Clinic,Criterium
ORGANIZER;CN="Bikecoach.com":MAILTO:sean@bikecoach.com
END:VEVENT
BEGIN:VEVENT
DTSTART;TZID=America/Los_Angeles:20241214T000000
DTEND;TZID=America/Los_Angeles:20241214T235900
DTSTAMP:20260424T205115
CREATED:20240111T020454Z
LAST-MODIFIED:20240111T020456Z
UID:8157-1734134400-1734220740@scnca.com
SUMMARY:2024 Blue Diamond Enduro
DESCRIPTION:Race FlyerRegistration
URL:https://scnca.com/event/2024-blue-diamond-enduro/
LOCATION:Bootleg Blue Diamond\, 11946 NV-160\, Blue Diamond\, Nevada\, 89004
CATEGORIES:Mountain Bike
END:VEVENT
BEGIN:VEVENT
DTSTART;TZID=America/Los_Angeles:20241130T000000
DTEND;TZID=America/Los_Angeles:20241130T235900
DTSTAMP:20260424T205115
CREATED:20240109T100851Z
LAST-MODIFIED:20240109T100853Z
UID:8138-1732924800-1733011140@scnca.com
SUMMARY:Coyote Classic XC Series #3
DESCRIPTION:Race FlyerRegistration
URL:https://scnca.com/event/coyote-classic-xc-series-3/
LOCATION:Bootleg Canyon Racing\, 1027 Canyon Road\, Boulder City\, Nevada\, 89005
CATEGORIES:Mountain Bike
END:VEVENT
BEGIN:VEVENT
DTSTART;TZID=America/Los_Angeles:20241116T000000
DTEND;TZID=America/Los_Angeles:20241117T235959
DTSTAMP:20260424T205116
CREATED:20240905T011641Z
LAST-MODIFIED:20240905T011643Z
UID:8584-1731715200-1731887999@scnca.com
SUMMARY:Cal Poly Classic
DESCRIPTION:Race Flyer \nRegistration
URL:https://scnca.com/event/cal-poly-classic/
LOCATION:California
CATEGORIES:Mountain Bike
ORGANIZER;CN="CPCycling":MAILTO:cpcycling.mountainrace@gmail.com
END:VEVENT
BEGIN:VEVENT
DTSTART;TZID=America/Los_Angeles:20241019T180000
DTEND;TZID=America/Los_Angeles:20241019T210000
DTSTAMP:20260424T205116
CREATED:20241011T000629Z
LAST-MODIFIED:20241011T000944Z
UID:8605-1729360800-1729371600@scnca.com
SUMMARY:SoCal Cup Awards & 2024 Season Celebration
DESCRIPTION:Event Info
URL:https://scnca.com/event/socal-cup-awards-2024-season-celebration/
LOCATION:First Draft Taproom & Kitchen\, 1230 S Olive St\, Los Angeles\, California
CATEGORIES:Meeting
END:VEVENT
BEGIN:VEVENT
DTSTART;TZID=America/Los_Angeles:20241019T000000
DTEND;TZID=America/Los_Angeles:20241019T235959
DTSTAMP:20260424T205116
CREATED:20240821T032727Z
LAST-MODIFIED:20240821T033008Z
UID:8577-1729296000-1729382399@scnca.com
SUMMARY:SCNCA Gravel District Championships
DESCRIPTION:Race FlyerRegistration
URL:https://scnca.com/event/scnca-gravel-district-championships/
LOCATION:Apple Valley Gravel\, 21600 Corwin Road\, Apple Valley\, California\, 92307
CATEGORIES:Gravel,State Championship
ORGANIZER;CN="Majestic Cycling":MAILTO:alfiesanchez@aol.com
END:VEVENT
BEGIN:VEVENT
DTSTART;TZID=America/Los_Angeles:20241019T000000
DTEND;TZID=America/Los_Angeles:20241019T235900
DTSTAMP:20260424T205116
CREATED:20240109T100729Z
LAST-MODIFIED:20240109T100731Z
UID:8136-1729296000-1729382340@scnca.com
SUMMARY:Coyote Classic XC Series #2
DESCRIPTION:Race FlyerRegistration
URL:https://scnca.com/event/coyote-classic-xc-series-2/
LOCATION:Bootleg Canyon Racing\, 1027 Canyon Road\, Boulder City\, Nevada\, 89005
CATEGORIES:Mountain Bike
END:VEVENT
BEGIN:VEVENT
DTSTART;TZID=America/Los_Angeles:20241012T080000
DTEND;TZID=America/Los_Angeles:20241012T170000
DTSTAMP:20260424T205116
CREATED:20241011T005338Z
LAST-MODIFIED:20241011T005341Z
UID:8614-1728720000-1728752400@scnca.com
SUMMARY:Inglewood Pumptrack Second Saturdays Bike Series
DESCRIPTION:Race FlyerRegistration
URL:https://scnca.com/event/inglewood-pumptrack-second-saturdays-bike-series-2/
LOCATION:Inglewood Pumptrack\, 700 Warren Lane\, Inglewood\, California
CATEGORIES:BMX
END:VEVENT
BEGIN:VEVENT
DTSTART;TZID=America/Los_Angeles:20240928T000000
DTEND;TZID=America/Los_Angeles:20240928T235959
DTSTAMP:20260424T205116
CREATED:20240906T203047Z
LAST-MODIFIED:20240906T203116Z
UID:8593-1727481600-1727567999@scnca.com
SUMMARY:EACC (Elite Athlete Center Criterium)
DESCRIPTION:Race FlyerRegistration
URL:https://scnca.com/event/eacc-elite-athlete-center-criterium/
LOCATION:EACC\, 2800 Olympic Pkwy\, Chula Vista\, California\, 91915
CATEGORIES:Criterium,Elite,Junior,Masters
END:VEVENT
END:VCALENDAR