BEGIN:VCALENDAR
VERSION:2.0
PRODID:-//SCNCA | The Southern California / Nevada Cycling Association - ECPv6.15.18//NONSGML v1.0//EN
CALSCALE:GREGORIAN
METHOD:PUBLISH
X-ORIGINAL-URL:https://scnca.com
X-WR-CALDESC:Events for SCNCA | The Southern California / Nevada Cycling Association
REFRESH-INTERVAL;VALUE=DURATION:PT1H
X-Robots-Tag:noindex
X-PUBLISHED-TTL:PT1H
BEGIN:VTIMEZONE
TZID:America/Los_Angeles
BEGIN:DAYLIGHT
TZOFFSETFROM:-0800
TZOFFSETTO:-0700
TZNAME:PDT
DTSTART:20250309T100000
END:DAYLIGHT
BEGIN:STANDARD
TZOFFSETFROM:-0700
TZOFFSETTO:-0800
TZNAME:PST
DTSTART:20251102T090000
END:STANDARD
BEGIN:DAYLIGHT
TZOFFSETFROM:-0800
TZOFFSETTO:-0700
TZNAME:PDT
DTSTART:20260308T100000
END:DAYLIGHT
BEGIN:STANDARD
TZOFFSETFROM:-0700
TZOFFSETTO:-0800
TZNAME:PST
DTSTART:20261101T090000
END:STANDARD
BEGIN:DAYLIGHT
TZOFFSETFROM:-0800
TZOFFSETTO:-0700
TZNAME:PDT
DTSTART:20270314T100000
END:DAYLIGHT
BEGIN:STANDARD
TZOFFSETFROM:-0700
TZOFFSETTO:-0800
TZNAME:PST
DTSTART:20271107T090000
END:STANDARD
END:VTIMEZONE
BEGIN:VEVENT
DTSTART;TZID=America/Los_Angeles:20260426T000000
DTEND;TZID=America/Los_Angeles:20260426T235900
DTSTAMP:20260424T064841
CREATED:20260127T034803Z
LAST-MODIFIED:20260225T075612Z
UID:9096-1777161600-1777247940@scnca.com
SUMMARY:3rd Annual Triton Crit
DESCRIPTION:Race FlyerRegistration
URL:https://scnca.com/event/3rd-annual-triton-crit/
LOCATION:UCSD Triton Crit\, 6545 Sequence Dr\, San Diego\, California\, 92121
CATEGORIES:Criterium
END:VEVENT
BEGIN:VEVENT
DTSTART;TZID=America/Los_Angeles:20260428T000000
DTEND;TZID=America/Los_Angeles:20260428T235959
DTSTAMP:20260424T064841
CREATED:20260331T083654Z
LAST-MODIFIED:20260331T083659Z
UID:9188-1777334400-1777420799@scnca.com
SUMMARY:ELDO Race Series #1
DESCRIPTION:Race FlyerRegistration
URL:https://scnca.com/event/eldo-race-series-1-18/
LOCATION:El Dorado Park\, E Spring Street & El Dorado Park Street\, Long Beach\, California\, 90808
CATEGORIES:Criterium,Junior
ORGANIZER;CN="Methods To Winning":MAILTO:info@methodstowinning.com
END:VEVENT
BEGIN:VEVENT
DTSTART;TZID=America/Los_Angeles:20260428T000000
DTEND;TZID=America/Los_Angeles:20260428T235959
DTSTAMP:20260424T064841
CREATED:20260331T084629Z
LAST-MODIFIED:20260331T084635Z
UID:9198-1777334400-1777420799@scnca.com
SUMMARY:ELDO Race Series TT #2
DESCRIPTION:Race FlyerRegistration
URL:https://scnca.com/event/eldo-race-series-tt-2-2/
LOCATION:El Dorado Park\, E Spring Street & El Dorado Park Street\, Long Beach\, California\, 90808
CATEGORIES:Junior,Time Trial
ORGANIZER;CN="Methods To Winning":MAILTO:info@methodstowinning.com
END:VEVENT
END:VCALENDAR